BEGIN:VCALENDAR
VERSION:2.0
PRODID:-//wp-events-plugin.com//7.0.5//EN
TZID:Europe/Berlin
X-WR-TIMEZONE:Europe/Berlin
BEGIN:VEVENT
UID:97@hospiz-huerth.de
DTSTART;TZID=Europe/Berlin:20250604T153000
DTEND;TZID=Europe/Berlin:20250604T173000
DTSTAMP:20241209T161204Z
URL:https://www.hospiz-huerth.de/events/offener-trauertreff-im-pfarrhaus-h
 uerth-efferen-11/
SUMMARY:Offener Trauertreff im Pfarrhaus Hürth Efferen
DESCRIPTION:An jedem 1. Mittwoch im Monat findet in Hürth-Efferen im Pfarr
 haus der kath. Kirche St. Mariä Geburt\, (Frongasse 8\, Hürth-Efferen) e
 in offener Trauertreff bei Kaffee und Kuchen statt.\nEr wird von qualifizi
 erten Trauerbegleiterinnen begleitet.\nAnmelden können Sie sich persönli
 ch\, oder telefonisch im Geschäftsbüro des Hospiz Vereins Hürth\, Luxem
 burger Str. 358\, Telefonnummer 02233 9858930.\n\nDie Teilnahme ist kosten
 los.\nSie sind herzlich eingeladen !
ATTACH;FMTTYPE=image/jpeg:https://www.hospiz-huerth.de/wp-content/uploads/
 2024/06/offener-Trauertreff-Efferen.jpg
CATEGORIES:Trauerangebot
LOCATION:Pfarrhaus der kath. Kirche St. Mariä Geburt\, Frongasse 8\, Hür
 th-Efferen\, Deutschland
X-APPLE-STRUCTURED-LOCATION;VALUE=URI;X-ADDRESS=Frongasse 8\, Hürth-Effer
 en\, Deutschland;X-APPLE-RADIUS=100;X-TITLE=Pfarrhaus der kath. Kirche St.
  Mariä Geburt:geo:0,0
END:VEVENT
BEGIN:VTIMEZONE
TZID:Europe/Berlin
X-LIC-LOCATION:Europe/Berlin
BEGIN:DAYLIGHT
DTSTART:20250330T030000
TZOFFSETFROM:+0100
TZOFFSETTO:+0200
TZNAME:CEST
END:DAYLIGHT
END:VTIMEZONE
END:VCALENDAR