BEGIN:VCALENDAR
VERSION:2.0
PRODID:-//wp-events-plugin.com//7.0.5//EN
TZID:Europe/Berlin
X-WR-TIMEZONE:Europe/Berlin
BEGIN:VEVENT
UID:3@hospiz-huerth.de
DTSTART;TZID=Europe/Berlin:20230512T180000
DTEND;TZID=Europe/Berlin:20230512T210000
DTSTAMP:20230418T142123Z
URL:https://www.hospiz-huerth.de/events/kochen-fuer-leib-und-seele/
SUMMARY:Kochen für Leib und Seele
DESCRIPTION:Ein Kochangebot für trauernde Menschen
CATEGORIES:Trauerangebot
LOCATION:Katholisches Pfarramt St. Mariä Geburt\, Frongasse 8\, Hürth\, 5
 0354\, Deutschland
X-APPLE-STRUCTURED-LOCATION;VALUE=URI;X-ADDRESS=Frongasse 8\, Hürth\, 5035
 4\, Deutschland;X-APPLE-RADIUS=100;X-TITLE=Katholisches Pfarramt St. Mari
 ä Geburt:geo:0,0
END:VEVENT
BEGIN:VTIMEZONE
TZID:Europe/Berlin
X-LIC-LOCATION:Europe/Berlin
BEGIN:DAYLIGHT
DTSTART:20230326T030000
TZOFFSETFROM:+0100
TZOFFSETTO:+0200
TZNAME:CEST
END:DAYLIGHT
END:VTIMEZONE
END:VCALENDAR