BEGIN:VCALENDAR
VERSION:2.0
PRODID:-//wp-events-plugin.com//7.0.5//EN
TZID:Europe/Berlin
X-WR-TIMEZONE:Europe/Berlin
BEGIN:VEVENT
UID:182@hospiz-huerth.de
DTSTART;TZID=Europe/Berlin:20260521T150000
DTEND;TZID=Europe/Berlin:20260521T160000
DTSTAMP:20251202T105430Z
URL:https://www.hospiz-huerth.de/events/gespraechsangebot-fuer-trauernde-f
 riedhofsbank-efferen-13/
SUMMARY:Gesprächsangebot für Trauernde Friedhofsbank Efferen
DESCRIPTION:Donnerstags einmal im Monat haben Sie die Möglichkeit auf unse
 rer Bank im Friedhof Efferen ins Gespräch zu kommen.\n\nAusgebildete Trau
 erbegleiterinnen sind für Sie da\, hören zu\, reden\, schweigen\, gehen 
 mit Ihnen zum Grab oder verweilen einfach nur ein bisschen gemeinsam mit I
 hnen auf der Bank.\n\nEine Anmeldung ist nicht erforderlich.\n\nSie sind h
 erzlich willkommen!
ATTACH;FMTTYPE=image/jpeg:https://www.hospiz-huerth.de/wp-content/uploads/
 2024/09/WEB_Illu_3.jpg
CATEGORIES:Trauerangebot
LOCATION:Friedhof Hürth-Efferen\, Bellerstraße\, 50354 Hürth\, Deutschla
 nd
X-APPLE-STRUCTURED-LOCATION;VALUE=URI;X-ADDRESS=Bellerstraße\, 50354 Hürt
 h\, Deutschland;X-APPLE-RADIUS=100;X-TITLE=Friedhof Hürth-Efferen:geo:0,0
END:VEVENT
BEGIN:VTIMEZONE
TZID:Europe/Berlin
X-LIC-LOCATION:Europe/Berlin
BEGIN:DAYLIGHT
DTSTART:20260329T030000
TZOFFSETFROM:+0100
TZOFFSETTO:+0200
TZNAME:CEST
END:DAYLIGHT
END:VTIMEZONE
END:VCALENDAR